BEGIN:VCALENDAR
VERSION:2.0
PRODID:-//www.heartlandcounselingservices.org//NONSGML kigkonsult.se iCalcr
 eator 2.30.10//
CALSCALE:GREGORIAN
METHOD:PUBLISH
UID:e7112514-58cf-4f8f-85c2-3184a62721da
X-WR-CALDESC:7th Annual Heartland Counseling Golf Fundraiser\nNEW DATE: Sat
 urday\, JUNE 27\, 2020 at Covington Links Golf Course\, South Sioux City N
 E\n4 Person Scramble\; 10am Shotgun Start (NEW Start Time!)\n\nSponsorship
  Opportunities Available!!\nTeam Registration includes: 18 holes\, cart\, 
 lunch\, dinner\, games & prizes ... PLUS $100 Greenberg's Jewelers Gift Ca
 rd per golfer!!\nFun Course Games & Pin Prizes\nPick-A-Prize Drawings\n3 F
 lights with 1st\, 2nd\, & 3rd Place per Flight!\nPLUS\, you won't go home 
 hungry!\nTeam & Sponsorship slots fill fast!\nCall 402-494-3337 x11 TODAY 
 or email hart@heartlandcounselingservices.com to secure your spot!\n\nYour
  team registration\, sponsorship\, and donations help to provide critical 
 services and assistance to local individuals and families dealing with men
 tal health or substance abuse issue. Your support makes it possible for mo
 re lives to be changed and more hearts to be healed in Siouxland!\n\n
X-WR-RELCALID:5ec30e068de58b7abd17bf92c256c319
X-WR-TIMEZONE:America/Chicago
BEGIN:VTIMEZONE
TZID:America/Chicago
BEGIN:STANDARD
TZNAME:CST
DTSTART:20191103T020000
TZOFFSETFROM:-0500
TZOFFSETTO:-0600
RDATE:20201101T020000
RDATE:20211107T020000
END:STANDARD
BEGIN:DAYLIGHT
TZNAME:CDT
DTSTART:20200308T020000
TZOFFSETFROM:-0600
TZOFFSETTO:-0500
RDATE:20210314T020000
END:DAYLIGHT
END:VTIMEZONE
BEGIN:VEVENT
UID:d18a9ffd-3fc2-423e-8747-4a6be36d4bdf
DTSTAMP:20260422T185256Z
DESCRIPTION:7th Annual Heartland Counseling Golf Fundraiser\nNEW DATE: Satu
 rday\, JUNE 27\, 2020 at Covington Links Golf Course\, South Sioux City NE
 \n4 Person Scramble\; 10am Shotgun Start (NEW Start Time!)\n\nSponsorship 
 Opportunities Available!!\nTeam Registration includes: 18 holes\, cart\, l
 unch\, dinner\, games & prizes ... PLUS $100 Greenberg's Jewelers Gift Car
 d per golfer!!\nFun Course Games & Pin Prizes\nPick-A-Prize Drawings\n3 Fl
 ights with 1st\, 2nd\, & 3rd Place per Flight!\nPLUS\, you won't go home h
 ungry!\nTeam & Sponsorship slots fill fast!\nCall 402-494-3337 x11 TODAY o
 r email hart@heartlandcounselingservices.com to secure your spot!\n\nYour 
 team registration\, sponsorship\, and donations help to provide critical s
 ervices and assistance to local individuals and families dealing with ment
 al health or substance abuse issue. Your support makes it possible for mor
 e lives to be changed and more hearts to be healed in Siouxland!\n\n
DTSTART;TZID=America/Chicago:20200627T100000
DTEND;TZID=America/Chicago:20200627T170000
LOCATION:Covington Links Golf Course
SUMMARY:7th Annual Golf Fundraiser
END:VEVENT
END:VCALENDAR
