BEGIN:VCALENDAR
VERSION:2.0
PRODID:-//www.heartlandcounselingservices.org//NONSGML kigkonsult.se iCalcr
 eator 2.30.10//
CALSCALE:GREGORIAN
METHOD:PUBLISH
UID:cbff06cb-45a1-4c1d-8e8e-e7359f54f262
X-WR-CALDESC:đźŹŚ¸Źâ€Ťâ™‚ď¸ŹđźŚĽFresh Starts & Fairways đźŚĽźŹŚď¸Źâ€Ťâ™€ď¸Ź\n\nFresh Starts & Fairways 
 is Heartland Counseling Servicesâ€™ annual golf event â€” and itâ€™s more than j
 ust a day on the course. Weâ€™re excited to return to Covington Links\, the 
 perfect setting for a fun\, high-energy spring kickoff. \n\nWhether youâ€™re
  in it for the competition\, the camaraderie\, or the cause\, thereâ€™s some
 thing for everyone.\n\nCovington Links Golf Course\nRegistration Opens at 
 9 am\nShotgun Start at 10 am\n\nKnown as one of the areaâ€™s best golf fundr
 aisers\, Fresh Starts & Fairways delivers a full experience from start to 
 finish â€” including:\nLunch \nDinner\nIncredible prizes \nInteractive games
  and activities throughout the course. \n\nMost importantly\, every swing 
 supports vital mental health services across Siouxland\, helping individua
 ls and families access care\, stability\, and hope. Grab your team\, enjoy
  a great day of golf\, and be part of an event that truly makes a differen
 ce â€” all while having an absolute blast on the fairways.\n\nWe canâ€™t wait 
 to see you at Covington Links for a day of fresh starts\, fairways\, and f
 un! đź’››ł\n\n
X-WR-RELCALID:667109f0cc05de6f2100323cfa11928c
X-WR-TIMEZONE:America/Chicago
BEGIN:VTIMEZONE
TZID:America/Chicago
BEGIN:STANDARD
TZNAME:CST
DTSTART:20251102T020000
TZOFFSETFROM:-0500
TZOFFSETTO:-0600
RDATE:20261101T020000
END:STANDARD
BEGIN:DAYLIGHT
TZNAME:CDT
DTSTART:20260308T020000
TZOFFSETFROM:-0600
TZOFFSETTO:-0500
RDATE:20270314T020000
END:DAYLIGHT
END:VTIMEZONE
BEGIN:VEVENT
UID:edb3d0b1-8ca2-431e-8b9b-c55c1f70e2f9
DTSTAMP:20260421T120633Z
DESCRIPTION:đźŹŚ¸Źâ€Ťâ™‚ď¸ŹđźŚĽFresh Starts & Fairways đźŚĽźŹŚď¸Źâ€Ťâ™€ď¸Ź\n\nFresh Starts & Fairways i
 s Heartland Counseling Servicesâ€™ annual golf event â€” and itâ€™s more than ju
 st a day on the course. Weâ€™re excited to return to Covington Links\, the p
 erfect setting for a fun\, high-energy spring kickoff. \n\nWhether youâ€™re 
 in it for the competition\, the camaraderie\, or the cause\, thereâ€™s somet
 hing for everyone.\n\nCovington Links Golf Course\nRegistration Opens at 9
  am\nShotgun Start at 10 am\n\nKnown as one of the areaâ€™s best golf fundra
 isers\, Fresh Starts & Fairways delivers a full experience from start to f
 inish â€” including:\nLunch \nDinner\nIncredible prizes \nInteractive games 
 and activities throughout the course. \n\nMost importantly\, every swing s
 upports vital mental health services across Siouxland\, helping individual
 s and families access care\, stability\, and hope. Grab your team\, enjoy 
 a great day of golf\, and be part of an event that truly makes a differenc
 e â€” all while having an absolute blast on the fairways.\n\nWe canâ€™t wait t
 o see you at Covington Links for a day of fresh starts\, fairways\, and fu
 n! đź’››ł\n\n
DTSTART;TZID=America/Chicago:20260424T090000
DTEND;TZID=America/Chicago:20260424T183000
LOCATION:497 Golf Road\, P.O. Box 355\, South Sioux City\, NE 68776 US
SUMMARY:Heartland's Fresh Starts & Fairways Golf Outing
END:VEVENT
END:VCALENDAR
